BEGIN:VCALENDAR
VERSION:2.0
PRODID:-//eventon.com NONSGML v1.0//EN
CALSCALE:GREGORIAN
METHOD:PUBLISH
BEGIN:VEVENT
UID:69e581031c2fb
DTSTAMP:20260420T012731Z
DTSTART:20250507T150000Z
DTEND:20250507T170000Z
LOCATION:OecherLab Kapuzinergraben 19D\,  52062 Aachen
SUMMARY:Zweites Planungstreffen - KIMIKO Festival CCT.square
DESCRIPTION:Auf in eine neue Runde KIMIKO Festival und CCT.Square &#8211; F
 eiert mit uns the Culture of Tomorrow! Auch in diesem Jahr habt ihr die Mö
 glichkeit euch und euer Engagement auf dem Festival vorzustellen und damit 
 den CCT.Square wiederum einzigartig toll werden zu lassen! Auf dem Treffen 
 wird es um folgende[..]\nhttps://aachenwasgeht.de/events/zweites-planungstr
 effen-kimiko-festival-cct-square/
URL:https://aachenwasgeht.de/events/zweites-planungstreffen-kimiko-festival-cct-square/
END:VEVENT
END:VCALENDAR