BEGIN:VCALENDAR
VERSION:2.0
PRODID:-//eventon.com NONSGML v1.0//EN
CALSCALE:GREGORIAN
METHOD:PUBLISH
BEGIN:VEVENT
UID:69e7488162840
DTSTAMP:20260421T095057Z
DTSTART:20250701T070000Z
DTEND:20250701T110000Z
LOCATION:
SUMMARY:Girls´ Year - Eintägiges MINT Angebot für Mädchen
DESCRIPTION:Das Programm „Girls‘ Year“ ermöglicht es Mädchen mehrma
 ls im Jahr MINT-Themen vertiefend kennenzulernen: Dabei können sie „Einb
 licke in die Nanowelt“ (Klasse 7 bis 12) erhalten oder „Experimente mit
  einer Phyphox“ (Klasse 7 bis 10) durchführen. Die Angebote finden währ
 end der Schulzeit statt\,  weswegen die Mädchen von der Schule freigestell
 t werden[..]\nhttps://aachenwasgeht.de/events/girls-year-eintaegiges-mint-a
 ngebot-fuer-maedchen/
URL:https://aachenwasgeht.de/events/girls-year-eintaegiges-mint-angebot-fuer-maedchen/
END:VEVENT
END:VCALENDAR