BEGIN:VCALENDAR
VERSION:2.0
PRODID:-//eventon.com NONSGML v1.0//EN
CALSCALE:GREGORIAN
METHOD:PUBLISH
BEGIN:VEVENT
UID:69e5ff308b4d9
DTSTAMP:20260420T102552Z
DTSTART:20250502T140000Z
DTEND:20250502T200000Z
LOCATION:Neumarkt\,  Frankenberger Viertel Neumarkt
SUMMARY:Frankenberger Feierabendmarkt
DESCRIPTION:Speisen\,  Getränke und Musik auf dem Frankenberger Neumarkt.\
 nhttps://aachenwasgeht.de/events/frankenberger-feierabendmarkt/
URL:https://aachenwasgeht.de/events/frankenberger-feierabendmarkt/
END:VEVENT
END:VCALENDAR