BEGIN:VCALENDAR
VERSION:2.0
PRODID:-//eventon.com NONSGML v1.0//EN
CALSCALE:GREGORIAN
METHOD:PUBLISH
BEGIN:VEVENT
UID:69e746a9e0424
DTSTAMP:20260421T094305Z
DTSTART:20250912T140000Z
DTEND:20250913T210000Z
LOCATION:Büchel-Wiese Büchel
SUMMARY:Allez Hop - Festival der Bierkultur
DESCRIPTION:Brauereien aus Deutschland\,  Belgien\,  Niederlande und Luxemb
 urg bringen ihre besten Biere mit auf den Platz für Demokratie am Büchel 
 in Aachen. Dazu gibt es ein feines Programm an Livemusic &amp; Foodtrucks.
 \nhttps://aachenwasgeht.de/events/allez-hop-festival-der-bierkultur/
URL:https://aachenwasgeht.de/events/allez-hop-festival-der-bierkultur/
END:VEVENT
END:VCALENDAR