BEGIN:VCALENDAR
VERSION:2.0
PRODID:-//eventon.com NONSGML v1.0//EN
CALSCALE:GREGORIAN
METHOD:PUBLISH
BEGIN:VEVENT
UID:69e4d599424d4
DTSTAMP:20260419T131609Z
DTSTART:20250731T150000Z
DTEND:20250731T160000Z
LOCATION:digitalCHURCH Jülicher Straße 72a\,  Aachen
SUMMARY:Fokusgruppentreffen Startup
DESCRIPTION:Die Fokusgruppe StartUp lädt herzlich zum monatlichen Fokusgru
 ppentreffen ein. Nach einem gemeinsamen Get-together werden organisatorisch
 e Punkte und aktuelle Themen besprochen. Anschließend stellen sich die Tei
 lnehmenden vor und es wird diskutiert\,  welche nächsten Schritte und mög
 lichen Events geplant werden können. Zum Abschluss bietet das Treffen Raum
  für Austausch und Networking. Anmeldung[..]\nhttps://aachenwasgeht.de/eve
 nts/fokusgruppentreffen-startup/
URL:https://aachenwasgeht.de/events/fokusgruppentreffen-startup/
END:VEVENT
END:VCALENDAR