BEGIN:VCALENDAR
VERSION:2.0
PRODID:-//eventon.com NONSGML v1.0//EN
CALSCALE:GREGORIAN
METHOD:PUBLISH
BEGIN:VEVENT
UID:69e746a2f24bc
DTSTAMP:20260421T094258Z
DTSTART:20250807T080000Z
DTEND:20250807T170000Z
LOCATION:
SUMMARY:Radeln zur COP30: Mitmachaktion für Aachen
DESCRIPTION:IM Rahmen einer europäischen Rad-Staffelfahrt wird mit dem COP
 30BikeSail Ride symbolisch die klimafreundliche Anreise zur COP30\,  der UN
 -Klimakonferenz im November 2025 in Belém\,  Brasilien\,  unterstützt. Je
 de:r ist eingeladen\,  lokal in Aachen ein Stück der Route mitzufahren –
  als Zeichen für nachhaltige Mobilität und Klimaschutz. Gestartet wird am
  SuperC.\nhttps://aachenwasgeht.de/events/radeln-zur-cop30-mitmachaktion-fu
 er-aachen/
URL:https://aachenwasgeht.de/events/radeln-zur-cop30-mitmachaktion-fuer-aachen/
END:VEVENT
END:VCALENDAR