BEGIN:VCALENDAR
VERSION:2.0
PRODID:-//eventon.com NONSGML v1.0//EN
CALSCALE:GREGORIAN
METHOD:PUBLISH
BEGIN:VEVENT
UID:69e7466bf3b34
DTSTAMP:20260421T094203Z
DTSTART:20250830T120000Z
DTEND:20250830T170000Z
LOCATION:
SUMMARY:Rollende Demo: Drum and Bass on the Bike with Dom Whiting
DESCRIPTION:Am 30. August 2025 heißt es in Aachen: „Drum and Bass on the
  Bike – Rollende Demo für die Mobilitätswende“!Start ist um 13:00 Uhr
  am Hauptbahnhof\,  die rund acht Kilometer lange Route führt quer durch d
 ie Stadt. Mit dabei: der britische DJ Dom Whiting\,  bekannt für seine mit
 reißenden Drum-and-Bass-Sets auf[..]\nhttps://aachenwasgeht.de/events/roll
 ende-demo-drum-and-bass-on-the-bike-with-dom-whiting/
URL:https://aachenwasgeht.de/events/rollende-demo-drum-and-bass-on-the-bike-with-dom-whiting/
END:VEVENT
END:VCALENDAR